BEGIN:VCALENDAR
VERSION:2.0
PRODID:-//SVP Lindau //NONSGML Events //EN
CALSCALE:GREGORIAN
X-WR-CALNAME:SVP Lindau
BEGIN:VEVENT
CREATED:20241209T144145Z
UID:2724
DTEND:20250816T000000
DTSTART:20250816T000000
DTSTAMP:20260421T084313Z
LOCATION:SH
DESCRIPTION:
SUMMARY:Delegiertenversammlung SVP Schweiz
ORGANIZER:
URL;VALUE=URI:https://www.svp-lindau.ch/termine/delegiertenversammlung-svp-schweiz-21/
TRANSP:OPAQUE
END:VEVENT
END:VCALENDAR
